BEGIN:VCALENDAR
VERSION:2.0
PRODID:-//Kampfkunstschule Düsseldorf e.v - ECPv6.15.11//NONSGML v1.0//EN
CALSCALE:GREGORIAN
METHOD:PUBLISH
X-WR-CALNAME:Kampfkunstschule Düsseldorf e.v
X-ORIGINAL-URL:https://kampfkunstschule-duesseldorf.de
X-WR-CALDESC:Veranstaltungen für Kampfkunstschule Düsseldorf e.v
REFRESH-INTERVAL;VALUE=DURATION:PT1H
X-Robots-Tag:noindex
X-PUBLISHED-TTL:PT1H
BEGIN:VTIMEZONE
TZID:Europe/Berlin
BEGIN:DAYLIGHT
TZOFFSETFROM:+0100
TZOFFSETTO:+0200
TZNAME:CEST
DTSTART:20250330T010000
END:DAYLIGHT
BEGIN:STANDARD
TZOFFSETFROM:+0200
TZOFFSETTO:+0100
TZNAME:CET
DTSTART:20251026T010000
END:STANDARD
BEGIN:DAYLIGHT
TZOFFSETFROM:+0100
TZOFFSETTO:+0200
TZNAME:CEST
DTSTART:20260329T010000
END:DAYLIGHT
BEGIN:STANDARD
TZOFFSETFROM:+0200
TZOFFSETTO:+0100
TZNAME:CET
DTSTART:20261025T010000
END:STANDARD
BEGIN:DAYLIGHT
TZOFFSETFROM:+0100
TZOFFSETTO:+0200
TZNAME:CEST
DTSTART:20270328T010000
END:DAYLIGHT
BEGIN:STANDARD
TZOFFSETFROM:+0200
TZOFFSETTO:+0100
TZNAME:CET
DTSTART:20271031T010000
END:STANDARD
BEGIN:DAYLIGHT
TZOFFSETFROM:+0100
TZOFFSETTO:+0200
TZNAME:CEST
DTSTART:20280326T010000
END:DAYLIGHT
BEGIN:STANDARD
TZOFFSETFROM:+0200
TZOFFSETTO:+0100
TZNAME:CET
DTSTART:20281029T010000
END:STANDARD
END:VTIMEZONE
BEGIN:VEVENT
DTSTART;VALUE=DATE:20260501
DTEND;VALUE=DATE:20260503
DTSTAMP:20260425T015805
CREATED:20241210T174917Z
LAST-MODIFIED:20260209T144609Z
UID:3205-1777593600-1777766399@kampfkunstschule-duesseldorf.de
SUMMARY:Verein geschlossen
DESCRIPTION:Am Tag der Arbeit und an den Brückentagen bleibt der Verein geschlossen.
URL:https://kampfkunstschule-duesseldorf.de/event/verein-geschlossen-4/
LOCATION:Kampfkunstschule Düsseldorf e.V.\, Harffstrasse 37\, Duesseldorf\, NRW\, 40591\, Germany
CATEGORIES:Termine
ORGANIZER;CN="KKSD":MAILTO:info@kampfkunstschule-duesseldorf.de
END:VEVENT
BEGIN:VEVENT
DTSTART;VALUE=DATE:20260514
DTEND;VALUE=DATE:20260517
DTSTAMP:20260425T015805
CREATED:20241210T175034Z
LAST-MODIFIED:20260209T144719Z
UID:3207-1778716800-1778975999@kampfkunstschule-duesseldorf.de
SUMMARY:Verein geschlossen
DESCRIPTION:An Christi Himmelfahrt und den Brückentagen bleibt der Verein geschlossen.
URL:https://kampfkunstschule-duesseldorf.de/event/verein-geschlossen-5/
LOCATION:Kampfkunstschule Düsseldorf e.V.\, Harffstrasse 37\, Duesseldorf\, NRW\, 40591\, Germany
CATEGORIES:Termine
ORGANIZER;CN="KKSD":MAILTO:info@kampfkunstschule-duesseldorf.de
END:VEVENT
BEGIN:VEVENT
DTSTART;VALUE=DATE:20260525
DTEND;VALUE=DATE:20260526
DTSTAMP:20260425T015805
CREATED:20241210T175136Z
LAST-MODIFIED:20260209T144821Z
UID:3209-1779667200-1779753599@kampfkunstschule-duesseldorf.de
SUMMARY:Verein geschlossen
DESCRIPTION:Am Pfingstmontag bleibt der Verein geschlossen.
URL:https://kampfkunstschule-duesseldorf.de/event/verein-geschlossen-6/
LOCATION:Kampfkunstschule Düsseldorf e.V.\, Harffstrasse 37\, Duesseldorf\, NRW\, 40591\, Germany
CATEGORIES:Termine
ORGANIZER;CN="KKSD":MAILTO:info@kampfkunstschule-duesseldorf.de
END:VEVENT
BEGIN:VEVENT
DTSTART;VALUE=DATE:20260604
DTEND;VALUE=DATE:20260607
DTSTAMP:20260425T015805
CREATED:20241210T175259Z
LAST-MODIFIED:20260209T144902Z
UID:3211-1780531200-1780790399@kampfkunstschule-duesseldorf.de
SUMMARY:Verein geschlossen
DESCRIPTION:An Fronleichnam und den Brückentagen bleibt der Verein geschlossen.
URL:https://kampfkunstschule-duesseldorf.de/event/verein-geschlossen-7/
LOCATION:Kampfkunstschule Düsseldorf e.V.\, Harffstrasse 37\, Duesseldorf\, NRW\, 40591\, Germany
CATEGORIES:Termine
ORGANIZER;CN="KKSD":MAILTO:info@kampfkunstschule-duesseldorf.de
END:VEVENT
BEGIN:VEVENT
DTSTART;TZID=Europe/Berlin:20260606T140000
DTEND;TZID=Europe/Berlin:20260606T170000
DTSTAMP:20260425T015805
CREATED:20260209T150638Z
LAST-MODIFIED:20260209T150638Z
UID:3366-1780754400-1780765200@kampfkunstschule-duesseldorf.de
SUMMARY:Prüfungen im Gracie Jiu Jitsu
DESCRIPTION:Es finden Gurtprüfungen im Gracie Combatives und Blue Belt statt.
URL:https://kampfkunstschule-duesseldorf.de/event/pruefungen-im-gracie-jiu-jitsu/
ORGANIZER;CN="KKSD":MAILTO:info@kampfkunstschule-duesseldorf.de
END:VEVENT
BEGIN:VEVENT
DTSTART;TZID=Europe/Berlin:20260704T130000
DTEND;TZID=Europe/Berlin:20260704T140000
DTSTAMP:20260425T015805
CREATED:20241210T175459Z
LAST-MODIFIED:20260209T145143Z
UID:3213-1783170000-1783173600@kampfkunstschule-duesseldorf.de
SUMMARY:Prüfungsvorbereitung
DESCRIPTION:Prüfungsvorbereitung für alle Abteilungen.
URL:https://kampfkunstschule-duesseldorf.de/event/pruefungsvorbereitung-2/
LOCATION:Kampfkunstschule Düsseldorf e.V.\, Harffstrasse 37\, Duesseldorf\, NRW\, 40591\, Germany
CATEGORIES:Termine
ORGANIZER;CN="KKSD":MAILTO:info@kampfkunstschule-duesseldorf.de
END:VEVENT
BEGIN:VEVENT
DTSTART;TZID=Europe/Berlin:20260711T130000
DTEND;TZID=Europe/Berlin:20260711T140000
DTSTAMP:20260425T015805
CREATED:20241210T175553Z
LAST-MODIFIED:20260209T145221Z
UID:3215-1783774800-1783778400@kampfkunstschule-duesseldorf.de
SUMMARY:Prüfungsvorbereitung
DESCRIPTION:Prüfungsvorbereitung für alle Abteilungen.
URL:https://kampfkunstschule-duesseldorf.de/event/pruefungsvorbereitung-3/
LOCATION:Kampfkunstschule Düsseldorf e.V.\, Harffstrasse 37\, Duesseldorf\, NRW\, 40591\, Germany
CATEGORIES:Termine
ORGANIZER;CN="KKSD":MAILTO:info@kampfkunstschule-duesseldorf.de
END:VEVENT
BEGIN:VEVENT
DTSTART;TZID=Europe/Berlin:20260718T100000
DTEND;TZID=Europe/Berlin:20260718T200000
DTSTAMP:20260425T015805
CREATED:20241210T180022Z
LAST-MODIFIED:20260209T145645Z
UID:3217-1784368800-1784404800@kampfkunstschule-duesseldorf.de
SUMMARY:Prüfungen Taekwon-Do\, Kickboxen & Street Combat
DESCRIPTION:Es finden wie gewohnt Prüfungen in allen Disziplinen statt. \n10.00 – 11.00 Uhr Taekwon-Do Kinder von 4 – 6 Jahre\n11.00 – 14.00 Uhr Taekwon-Do Kinder 6 – 11 Jahre\n15.00 – 17.00 Uhr Taekwon-Do Jugendliche & Erwachsene\n18.00 – 20.00 Uhr Kickboxen Jugendliche & Erwachsene
URL:https://kampfkunstschule-duesseldorf.de/event/pruefungen/
LOCATION:Kampfkunstschule Düsseldorf e.V.\, Harffstrasse 37\, Duesseldorf\, NRW\, 40591\, Germany
CATEGORIES:Termine
ORGANIZER;CN="KKSD":MAILTO:info@kampfkunstschule-duesseldorf.de
END:VEVENT
BEGIN:VEVENT
DTSTART;VALUE=DATE:20260720
DTEND;VALUE=DATE:20260829
DTSTAMP:20260425T015805
CREATED:20241210T180330Z
LAST-MODIFIED:20260209T150229Z
UID:3219-1784505600-1787961599@kampfkunstschule-duesseldorf.de
SUMMARY:Sommerferien für Kinder & Jugendliche
DESCRIPTION:Während der Sommerferien findet für die Kleinkinder\, Kinder und Jugendliche kein Training statt.\nDie Jugendlichen ab 14 Jahre können während der Sommerferien am Training für Erwachsene teilnehmen.
URL:https://kampfkunstschule-duesseldorf.de/event/sommerferien-fuer-kinder-jugendliche/
LOCATION:Kampfkunstschule Düsseldorf e.V.\, Harffstrasse 37\, Duesseldorf\, NRW\, 40591\, Germany
CATEGORIES:Termine
ORGANIZER;CN="KKSD":MAILTO:info@kampfkunstschule-duesseldorf.de
END:VEVENT
BEGIN:VEVENT
DTSTART;TZID=Europe/Berlin:20260901T120000
DTEND;TZID=Europe/Berlin:20260901T180000
DTSTAMP:20260425T015805
CREATED:20241210T180523Z
LAST-MODIFIED:20260209T150836Z
UID:3221-1788264000-1788285600@kampfkunstschule-duesseldorf.de
SUMMARY:Sommerfest
DESCRIPTION:Das Sommerfest findet\, wie gewohnt\, in unserem Verein statt. Wir werden alle Mitglieder und Freunde gesondert per Email benachrichtigen.
URL:https://kampfkunstschule-duesseldorf.de/event/sommerfest/
LOCATION:Kampfkunstschule Düsseldorf e.V.\, Harffstrasse 37\, Duesseldorf\, NRW\, 40591\, Germany
CATEGORIES:Termine
ORGANIZER;CN="KKSD":MAILTO:info@kampfkunstschule-duesseldorf.de
END:VEVENT
BEGIN:VEVENT
DTSTART;VALUE=DATE:20261003
DTEND;VALUE=DATE:20261004
DTSTAMP:20260425T015805
CREATED:20241210T180638Z
LAST-MODIFIED:20260209T150915Z
UID:3223-1790985600-1791071999@kampfkunstschule-duesseldorf.de
SUMMARY:Verein geschlossen
DESCRIPTION:Am Tag der Deutschen Einheit bleibt unser Verein geschlossen.
URL:https://kampfkunstschule-duesseldorf.de/event/verein-geschlossen-8/
LOCATION:Kampfkunstschule Düsseldorf e.V.\, Harffstrasse 37\, Duesseldorf\, NRW\, 40591\, Germany
CATEGORIES:Termine
ORGANIZER;CN="KKSD":MAILTO:info@kampfkunstschule-duesseldorf.de
END:VEVENT
BEGIN:VEVENT
DTSTART;TZID=Europe/Berlin:20261128T140000
DTEND;TZID=Europe/Berlin:20261128T170000
DTSTAMP:20260425T015805
CREATED:20260209T151528Z
LAST-MODIFIED:20260209T151528Z
UID:3370-1795874400-1795885200@kampfkunstschule-duesseldorf.de
SUMMARY:Prüfungen im Gracie Jiu Jitsu
DESCRIPTION:Es finden Gurtprüfungen im Gracie Combatives und Blue Belt statt.
URL:https://kampfkunstschule-duesseldorf.de/event/pruefungen-im-gracie-jiu-jitsu-2/
LOCATION:Kampfkunstschule Düsseldorf e.V.\, Harffstrasse 37\, Duesseldorf\, NRW\, 40591\, Germany
ORGANIZER;CN="KKSD":MAILTO:info@kampfkunstschule-duesseldorf.de
END:VEVENT
BEGIN:VEVENT
DTSTART;TZID=Europe/Berlin:20261205T130000
DTEND;TZID=Europe/Berlin:20261205T140000
DTSTAMP:20260425T015805
CREATED:20241210T180946Z
LAST-MODIFIED:20260209T151029Z
UID:3227-1796475600-1796479200@kampfkunstschule-duesseldorf.de
SUMMARY:Prüfungsvorbereitung
DESCRIPTION:Prüfungsvorbereitung für alle Abteilungen.
URL:https://kampfkunstschule-duesseldorf.de/event/pruefungsvorbereitung-4/
LOCATION:Kampfkunstschule Düsseldorf e.V.\, Harffstrasse 37\, Duesseldorf\, NRW\, 40591\, Germany
CATEGORIES:Termine
ORGANIZER;CN="KKSD":MAILTO:info@kampfkunstschule-duesseldorf.de
END:VEVENT
BEGIN:VEVENT
DTSTART;TZID=Europe/Berlin:20261212T130000
DTEND;TZID=Europe/Berlin:20261212T140000
DTSTAMP:20260425T015805
CREATED:20241210T181100Z
LAST-MODIFIED:20260209T151052Z
UID:3229-1797080400-1797084000@kampfkunstschule-duesseldorf.de
SUMMARY:Prüfungsvorbereitung
DESCRIPTION:Prüfungsvorbereitung für alle Abteilungen.
URL:https://kampfkunstschule-duesseldorf.de/event/pruefungsvorbereitung-5/
LOCATION:Kampfkunstschule Düsseldorf e.V.\, Harffstrasse 37\, Duesseldorf\, NRW\, 40591\, Germany
CATEGORIES:Termine
ORGANIZER;CN="KKSD":MAILTO:info@kampfkunstschule-duesseldorf.de
END:VEVENT
BEGIN:VEVENT
DTSTART;TZID=Europe/Berlin:20261219T100000
DTEND;TZID=Europe/Berlin:20261219T200000
DTSTAMP:20260425T015805
CREATED:20241210T181204Z
LAST-MODIFIED:20260209T151119Z
UID:3231-1797674400-1797710400@kampfkunstschule-duesseldorf.de
SUMMARY:Prüfungen
DESCRIPTION:Es finden wie gewohnt Prüfungen in allen Disziplinen statt. \n10.00 – 11.00 Uhr Taekwon-Do Kinder von 4 – 6 Jahre\n12.00 – 14.00 Uhr Taekwon-Do Kinder 6 – 11 Jahre\n15.00 – 17.00 Uhr Taekwon-Do Jugendliche & Erwachsene\n18.00 – 20.00 Uhr Kickboxen Jugendliche & Erwachsene
URL:https://kampfkunstschule-duesseldorf.de/event/pruefungen-2/
LOCATION:Kampfkunstschule Düsseldorf e.V.\, Harffstrasse 37\, Duesseldorf\, NRW\, 40591\, Germany
CATEGORIES:Termine
ORGANIZER;CN="KKSD":MAILTO:info@kampfkunstschule-duesseldorf.de
END:VEVENT
BEGIN:VEVENT
DTSTART;VALUE=DATE:20261221
DTEND;VALUE=DATE:20270112
DTSTAMP:20260425T015805
CREATED:20241210T181409Z
LAST-MODIFIED:20260209T151316Z
UID:3233-1797811200-1799711999@kampfkunstschule-duesseldorf.de
SUMMARY:Winterferien
DESCRIPTION:Über die Feiertage und den ersten beiden Januar Wochen bleibt unser Verein geschlossen.
URL:https://kampfkunstschule-duesseldorf.de/event/winterferien/
LOCATION:Kampfkunstschule Düsseldorf e.V.\, Harffstrasse 37\, Duesseldorf\, NRW\, 40591\, Germany
CATEGORIES:Termine
ORGANIZER;CN="KKSD":MAILTO:info@kampfkunstschule-duesseldorf.de
END:VEVENT
END:VCALENDAR