BEGIN:VCALENDAR
VERSION:2.0
PRODID:-//Kampfkunstschule Düsseldorf e.v - ECPv6.15.11//NONSGML v1.0//EN
CALSCALE:GREGORIAN
METHOD:PUBLISH
X-ORIGINAL-URL:https://kampfkunstschule-duesseldorf.de
X-WR-CALDESC:Veranstaltungen für Kampfkunstschule Düsseldorf e.v
REFRESH-INTERVAL;VALUE=DURATION:PT1H
X-Robots-Tag:noindex
X-PUBLISHED-TTL:PT1H
BEGIN:VTIMEZONE
TZID:Europe/Berlin
BEGIN:DAYLIGHT
TZOFFSETFROM:+0100
TZOFFSETTO:+0200
TZNAME:CEST
DTSTART:20250330T010000
END:DAYLIGHT
BEGIN:STANDARD
TZOFFSETFROM:+0200
TZOFFSETTO:+0100
TZNAME:CET
DTSTART:20251026T010000
END:STANDARD
BEGIN:DAYLIGHT
TZOFFSETFROM:+0100
TZOFFSETTO:+0200
TZNAME:CEST
DTSTART:20260329T010000
END:DAYLIGHT
BEGIN:STANDARD
TZOFFSETFROM:+0200
TZOFFSETTO:+0100
TZNAME:CET
DTSTART:20261025T010000
END:STANDARD
BEGIN:DAYLIGHT
TZOFFSETFROM:+0100
TZOFFSETTO:+0200
TZNAME:CEST
DTSTART:20270328T010000
END:DAYLIGHT
BEGIN:STANDARD
TZOFFSETFROM:+0200
TZOFFSETTO:+0100
TZNAME:CET
DTSTART:20271031T010000
END:STANDARD
BEGIN:DAYLIGHT
TZOFFSETFROM:+0100
TZOFFSETTO:+0200
TZNAME:CEST
DTSTART:20280326T010000
END:DAYLIGHT
BEGIN:STANDARD
TZOFFSETFROM:+0200
TZOFFSETTO:+0100
TZNAME:CET
DTSTART:20281029T010000
END:STANDARD
END:VTIMEZONE
BEGIN:VEVENT
DTSTART;TZID=Europe/Berlin:20261205T130000
DTEND;TZID=Europe/Berlin:20261205T140000
DTSTAMP:20260425T032348
CREATED:20241210T180946Z
LAST-MODIFIED:20260209T151029Z
UID:3227-1796475600-1796479200@kampfkunstschule-duesseldorf.de
SUMMARY:Prüfungsvorbereitung
DESCRIPTION:Prüfungsvorbereitung für alle Abteilungen.
URL:https://kampfkunstschule-duesseldorf.de/event/pruefungsvorbereitung-4/
LOCATION:Kampfkunstschule Düsseldorf e.V.\, Harffstrasse 37\, Duesseldorf\, NRW\, 40591\, Germany
CATEGORIES:Termine
ORGANIZER;CN="KKSD":MAILTO:info@kampfkunstschule-duesseldorf.de
END:VEVENT
BEGIN:VEVENT
DTSTART;TZID=Europe/Berlin:20261212T130000
DTEND;TZID=Europe/Berlin:20261212T140000
DTSTAMP:20260425T032348
CREATED:20241210T181100Z
LAST-MODIFIED:20260209T151052Z
UID:3229-1797080400-1797084000@kampfkunstschule-duesseldorf.de
SUMMARY:Prüfungsvorbereitung
DESCRIPTION:Prüfungsvorbereitung für alle Abteilungen.
URL:https://kampfkunstschule-duesseldorf.de/event/pruefungsvorbereitung-5/
LOCATION:Kampfkunstschule Düsseldorf e.V.\, Harffstrasse 37\, Duesseldorf\, NRW\, 40591\, Germany
CATEGORIES:Termine
ORGANIZER;CN="KKSD":MAILTO:info@kampfkunstschule-duesseldorf.de
END:VEVENT
BEGIN:VEVENT
DTSTART;TZID=Europe/Berlin:20261219T100000
DTEND;TZID=Europe/Berlin:20261219T200000
DTSTAMP:20260425T032348
CREATED:20241210T181204Z
LAST-MODIFIED:20260209T151119Z
UID:3231-1797674400-1797710400@kampfkunstschule-duesseldorf.de
SUMMARY:Prüfungen
DESCRIPTION:Es finden wie gewohnt Prüfungen in allen Disziplinen statt. \n10.00 – 11.00 Uhr Taekwon-Do Kinder von 4 – 6 Jahre\n12.00 – 14.00 Uhr Taekwon-Do Kinder 6 – 11 Jahre\n15.00 – 17.00 Uhr Taekwon-Do Jugendliche & Erwachsene\n18.00 – 20.00 Uhr Kickboxen Jugendliche & Erwachsene
URL:https://kampfkunstschule-duesseldorf.de/event/pruefungen-2/
LOCATION:Kampfkunstschule Düsseldorf e.V.\, Harffstrasse 37\, Duesseldorf\, NRW\, 40591\, Germany
CATEGORIES:Termine
ORGANIZER;CN="KKSD":MAILTO:info@kampfkunstschule-duesseldorf.de
END:VEVENT
BEGIN:VEVENT
DTSTART;VALUE=DATE:20261221
DTEND;VALUE=DATE:20270112
DTSTAMP:20260425T032348
CREATED:20241210T181409Z
LAST-MODIFIED:20260209T151316Z
UID:3233-1797811200-1799711999@kampfkunstschule-duesseldorf.de
SUMMARY:Winterferien
DESCRIPTION:Über die Feiertage und den ersten beiden Januar Wochen bleibt unser Verein geschlossen.
URL:https://kampfkunstschule-duesseldorf.de/event/winterferien/
LOCATION:Kampfkunstschule Düsseldorf e.V.\, Harffstrasse 37\, Duesseldorf\, NRW\, 40591\, Germany
CATEGORIES:Termine
ORGANIZER;CN="KKSD":MAILTO:info@kampfkunstschule-duesseldorf.de
END:VEVENT
END:VCALENDAR